BEGIN:VCALENDAR
VERSION:2.0
PRODID:-//MyDiabetesHQ - ECPv6.2.4//NONSGML v1.0//EN
CALSCALE:GREGORIAN
METHOD:PUBLISH
X-ORIGINAL-URL:https://mydiabeteshq.org/
X-WR-CALDESC:Events for MyDiabetesHQ
REFRESH-INTERVAL;VALUE=DURATION:PT1H
X-Robots-Tag:noindex
X-PUBLISHED-TTL:PT1H
BEGIN:VTIMEZONE
TZID:America/Chicago
BEGIN:DAYLIGHT
TZOFFSETFROM:-0600
TZOFFSETTO:-0500
TZNAME:CDT
DTSTART:20250309T080000
END:DAYLIGHT
BEGIN:STANDARD
TZOFFSETFROM:-0500
TZOFFSETTO:-0600
TZNAME:CST
DTSTART:20251102T070000
END:STANDARD
END:VTIMEZONE
BEGIN:VEVENT
DTSTART;TZID=America/Chicago:20250225T110000
DTEND;TZID=America/Chicago:20250225T120000
DTSTAMP:20260419T200526
CREATED:20250128T141949Z
LAST-MODIFIED:20250129T190720Z
UID:7249-1740481200-1740484800@mydiabeteshq.org
SUMMARY:Diabetes Peer Support In Person Meeting
DESCRIPTION:Join us every Tuesday from 11:00 a.m. to 12:00 p.m. at the DAWN Center for an in-person diabetes peer support group. Share your experiences\, access resources\, and connect with others in your community. This group provides a welcoming space to learn and grow together on your diabetes journey.
URL:https://mydiabeteshq.org/event/diabetes-peer-support-in-person-meeting-13/
LOCATION:DAWN Center-third Ward Multiservice Center\, 3611 Ennes St\, Houston\, TX\, 77004\, United States
END:VEVENT
BEGIN:VEVENT
DTSTART;TZID=America/Chicago:20250304T110000
DTEND;TZID=America/Chicago:20250304T120000
DTSTAMP:20260419T200526
CREATED:20250128T142427Z
LAST-MODIFIED:20250129T190810Z
UID:7251-1741086000-1741089600@mydiabeteshq.org
SUMMARY:Diabetes Peer Support In Person Meeting
DESCRIPTION:Join us every Tuesday from 11:00 a.m. to 12:00 p.m. at the DAWN Center for an in-person diabetes peer support group. Share your experiences\, access resources\, and connect with others in your community. This group provides a welcoming space to learn and grow together on your diabetes journey.
URL:https://mydiabeteshq.org/event/diabetes-peer-support-in-person-meeting-14/
LOCATION:DAWN Center-third Ward Multiservice Center\, 3611 Ennes St\, Houston\, TX\, 77004\, United States
END:VEVENT
BEGIN:VEVENT
DTSTART;TZID=America/Chicago:20250311T110000
DTEND;TZID=America/Chicago:20250311T120000
DTSTAMP:20260419T200526
CREATED:20250128T142701Z
LAST-MODIFIED:20250129T190900Z
UID:7253-1741690800-1741694400@mydiabeteshq.org
SUMMARY:Diabetes Peer Support In Person Meeting
DESCRIPTION:Join us every Tuesday from 11:00 a.m. to 12:00 p.m. at the DAWN Center for an in-person diabetes peer support group. Share your experiences\, access resources\, and connect with others in your community. This group provides a welcoming space to learn and grow together on your diabetes journey.
URL:https://mydiabeteshq.org/event/diabetes-peer-support-in-person-meeting-15/
LOCATION:DAWN Center-third Ward Multiservice Center\, 3611 Ennes St\, Houston\, TX\, 77004\, United States
END:VEVENT
BEGIN:VEVENT
DTSTART;TZID=America/Chicago:20250318T110000
DTEND;TZID=America/Chicago:20250318T120000
DTSTAMP:20260419T200526
CREATED:20250128T143059Z
LAST-MODIFIED:20250129T191037Z
UID:7255-1742295600-1742299200@mydiabeteshq.org
SUMMARY:Diabetes Peer Support In Person Meeting
DESCRIPTION:Join us every Tuesday from 11:00 a.m. to 12:00 p.m. at the DAWN Center for an in-person diabetes peer support group. Share your experiences\, access resources\, and connect with others in your community. This group provides a welcoming space to learn and grow together on your diabetes journey.
URL:https://mydiabeteshq.org/event/diabetes-peer-support-in-person-meeting-16/
LOCATION:DAWN Center-third Ward Multiservice Center\, 3611 Ennes St\, Houston\, TX\, 77004\, United States
END:VEVENT
BEGIN:VEVENT
DTSTART;TZID=America/Chicago:20250325T110000
DTEND;TZID=America/Chicago:20250325T120000
DTSTAMP:20260419T200526
CREATED:20250128T143319Z
LAST-MODIFIED:20250129T191147Z
UID:7257-1742900400-1742904000@mydiabeteshq.org
SUMMARY:Diabetes Peer Support In Person Meeting
DESCRIPTION:Join us every Tuesday from 11:00 a.m. to 12:00 p.m. at the DAWN Center for an in-person diabetes peer support group. Share your experiences\, access resources\, and connect with others in your community. This group provides a welcoming space to learn and grow together on your diabetes journey.
URL:https://mydiabeteshq.org/event/diabetes-peer-support-in-person-meeting-17/
LOCATION:DAWN Center-third Ward Multiservice Center\, 3611 Ennes St\, Houston\, TX\, 77004\, United States
END:VEVENT
END:VCALENDAR