BEGIN:VCALENDAR
VERSION:2.0
PRODID:-//MyDiabetesHQ - ECPv6.2.4//NONSGML v1.0//EN
CALSCALE:GREGORIAN
METHOD:PUBLISH
X-WR-CALNAME:MyDiabetesHQ
X-ORIGINAL-URL:https://mydiabeteshq.org/
X-WR-CALDESC:Events for MyDiabetesHQ
REFRESH-INTERVAL;VALUE=DURATION:PT1H
X-Robots-Tag:noindex
X-PUBLISHED-TTL:PT1H
BEGIN:VTIMEZONE
TZID:America/Chicago
BEGIN:DAYLIGHT
TZOFFSETFROM:-0600
TZOFFSETTO:-0500
TZNAME:CDT
DTSTART:20240310T080000
END:DAYLIGHT
BEGIN:STANDARD
TZOFFSETFROM:-0500
TZOFFSETTO:-0600
TZNAME:CST
DTSTART:20241103T070000
END:STANDARD
BEGIN:DAYLIGHT
TZOFFSETFROM:-0600
TZOFFSETTO:-0500
TZNAME:CDT
DTSTART:20250309T080000
END:DAYLIGHT
BEGIN:STANDARD
TZOFFSETFROM:-0500
TZOFFSETTO:-0600
TZNAME:CST
DTSTART:20251102T070000
END:STANDARD
END:VTIMEZONE
BEGIN:VEVENT
DTSTART;TZID=America/Chicago:20250121T190000
DTEND;TZID=America/Chicago:20250121T200000
DTSTAMP:20260423T043155
CREATED:20250102T122808Z
LAST-MODIFIED:20250102T122808Z
UID:7175-1737486000-1737489600@mydiabeteshq.org
SUMMARY:Men’s Diabetes Peer Support Group
DESCRIPTION:Join us virtually every week on Tuesday from 7 pm to 8 pm through a Teams meeting\nClick the link below to Join:\n\nhttps://teams.microsoft.com/l/meetup-join/19%3ameeting_MjgzOWViZGQtODY4Yi00NTg0LWEzZTYtZGZhMGZjNTg1NjZk%40thread.v2/0?context=%7b%22Tid%22%3a%225127c86e-d60f-42c9-9e07-d2361b983218%22%2c%22Oid%22%3a%2208f922a8-edc2-4920-b407-4a57a7f3e692%22%7d
URL:https://mydiabeteshq.org/event/mens-diabetes-peer-support-group-19/
LOCATION:TX
END:VEVENT
BEGIN:VEVENT
DTSTART;TZID=America/Chicago:20250121T093000
DTEND;TZID=America/Chicago:20250121T103000
DTSTAMP:20260423T043155
CREATED:20250116T120706Z
LAST-MODIFIED:20250116T120706Z
UID:7209-1737451800-1737455400@mydiabeteshq.org
SUMMARY:Diabetes Peer Support In Person Meeting
DESCRIPTION:Join us weekly on Tuesdays from 9:30 AM to 10:30 AM at the Deputy Darren Almendarez Community Center (Precinct 2). This event is free and open to everyone!
URL:https://mydiabeteshq.org/event/diabetes-peer-support-in-person-meeting-2/
LOCATION:Precinct 2\, 10918 Bentley St. Houston\, TX 77093\, Houston\, TX\, 77093\, United States
END:VEVENT
BEGIN:VEVENT
DTSTART;TZID=America/Chicago:20250120T190000
DTEND;TZID=America/Chicago:20250120T200000
DTSTAMP:20260423T043155
CREATED:20250102T130709Z
LAST-MODIFIED:20250102T130709Z
UID:7183-1737399600-1737403200@mydiabeteshq.org
SUMMARY:Diabetes Peer Support Virtual Meetings
DESCRIPTION:Join us virtually every week on Mondays from 7 pm to 8 pm through a Teams meeting \nClick the link below to Join:\n\nhttps://www.google.com/url?q=https://teams.microsoft.com/l/meetup-join/19%253ameeting_N2U5YzYzMmYtZjU1Mi00ZTk2LThjOWQtMzZmZWNhMGI4N2U5%2540thread.v2/0?context%3D%257b%2522Tid%2522%253a%25225127c86e-d60f-42c9-9e07-d2361b983218%2522%252c%2522Oid%2522%253a%252208f922a8-edc2-4920-b407-4a57a7f3e692%2522%257d&sa=D&source=calendar&ust=1698863406949624&usg=AOvVaw1g3U0IIyijSpOcYFSR0738
URL:https://mydiabeteshq.org/event/diabetes-peer-support-virtual-meetings-73/
LOCATION:TX
END:VEVENT
BEGIN:VEVENT
DTSTART;TZID=America/Chicago:20250119T190000
DTEND;TZID=America/Chicago:20250119T203000
DTSTAMP:20260423T043155
CREATED:20241223T144639Z
LAST-MODIFIED:20241223T144645Z
UID:7141-1737313200-1737318600@mydiabeteshq.org
SUMMARY:Diabetes Peer Support Virtual Meetings
DESCRIPTION:Join us virtually every week on Sundays from 7 pm to 8 pm through a Zoom meeting\nClick the link below to Join:\n\nhttps://us02web.zoom.us/j/85099711243
URL:https://mydiabeteshq.org/event/diabetes-peer-support-virtual-meetings-64/
LOCATION:TX
END:VEVENT
BEGIN:VEVENT
DTSTART;TZID=America/Chicago:20250119T140000
DTEND;TZID=America/Chicago:20250119T150000
DTSTAMP:20260423T043155
CREATED:20250102T102027Z
LAST-MODIFIED:20250102T102027Z
UID:7153-1737295200-1737298800@mydiabeteshq.org
SUMMARY:Winsor Village Church Event
DESCRIPTION:Join us virtually every week on Sundays from 2 pm to 3 pm through a Teams meeting.\nContact CORE Initiative@peoplenomix.org (800)783-4254 to get the Zoom link. 
URL:https://mydiabeteshq.org/event/winsor-village-church-event-3/
LOCATION:TX
END:VEVENT
BEGIN:VEVENT
DTSTART;TZID=America/Chicago:20250116T190000
DTEND;TZID=America/Chicago:20250116T200000
DTSTAMP:20260423T043155
CREATED:20250102T111233Z
LAST-MODIFIED:20250102T111233Z
UID:7162-1737054000-1737057600@mydiabeteshq.org
SUMMARY:Diabetes Peer Support Virtual Meetings
DESCRIPTION:Join us virtually every week on Sundays from 7 pm to 8 pm through a Teams meeting\nClick the link below to Join:\n\nmeeting<https://teams.microsoft.com/l/meetup-join/19%3ameeting_YzY2ZThkNTItMjZmYi00YTZkLTgwNmItYjU3M2E4ZmYzNjUz%40thread.v2/0?context=%7b%22Tid%22%3a%225127c86e-d60f-42c9-9e07-d2361b983218%22%2c%22Oid%22%3a%2208f922a8-edc2-4920-b407-4a57a7f3e692%22%7d> Meeting ID: 223 756 311 77 Passcode: PrTuEB
URL:https://mydiabeteshq.org/event/diabetes-peer-support-virtual-meetings-68/
LOCATION:TX
END:VEVENT
BEGIN:VEVENT
DTSTART;TZID=America/Chicago:20250116T100000
DTEND;TZID=America/Chicago:20250116T110000
DTSTAMP:20260423T043155
CREATED:20250116T124448Z
LAST-MODIFIED:20250116T124448Z
UID:7218-1737021600-1737025200@mydiabeteshq.org
SUMMARY:Diabetes Peer Support In Person Meeting
DESCRIPTION:Join us weekly on Thursdays from 10:00 AM to 11:00 AM at the DAWN Center-Alief Alief Community Center. This event is free and open to everyone!
URL:https://mydiabeteshq.org/event/diabetes-peer-support-in-person-meeting-6/
LOCATION:DAWN Center-Alief. Alief Community Center\, 11903 Belaire Blvd\, Houston\, TX\, 77072\, United States
END:VEVENT
BEGIN:VEVENT
DTSTART;TZID=America/Chicago:20250114T190000
DTEND;TZID=America/Chicago:20250114T190000
DTSTAMP:20260423T043155
CREATED:20250102T122121Z
LAST-MODIFIED:20250102T122121Z
UID:7173-1736881200-1736881200@mydiabeteshq.org
SUMMARY:Men’s Diabetes Peer Support Group
DESCRIPTION:Join us virtually every week on Tuesday from 7 pm to 8 pm through a Teams meeting\nClick the link below to Join:\n\nhttps://teams.microsoft.com/l/meetup-join/19%3ameeting_MjgzOWViZGQtODY4Yi00NTg0LWEzZTYtZGZhMGZjNTg1NjZk%40thread.v2/0?context=%7b%22Tid%22%3a%225127c86e-d60f-42c9-9e07-d2361b983218%22%2c%22Oid%22%3a%2208f922a8-edc2-4920-b407-4a57a7f3e692%22%7d
URL:https://mydiabeteshq.org/event/mens-diabetes-peer-support-group-18/
LOCATION:TX
END:VEVENT
BEGIN:VEVENT
DTSTART;TZID=America/Chicago:20250114T093000
DTEND;TZID=America/Chicago:20250114T103000
DTSTAMP:20260423T043155
CREATED:20250114T141237Z
LAST-MODIFIED:20250116T122344Z
UID:7207-1736847000-1736850600@mydiabeteshq.org
SUMMARY:Diabetes Peer Support In Person Meeting
DESCRIPTION:Join us weekly on Tuesdays from 9:30 AM to 10:30 AM at the Deputy Darren Almendarez Community Center (Precinct 2). This event is free and open to everyone!
URL:https://mydiabeteshq.org/event/diabetes-peer-support-in-person-meeting/
LOCATION:TX
END:VEVENT
BEGIN:VEVENT
DTSTART;TZID=America/Chicago:20250113T190000
DTEND;TZID=America/Chicago:20250113T200000
DTSTAMP:20260423T043155
CREATED:20250102T130531Z
LAST-MODIFIED:20250102T130531Z
UID:7181-1736794800-1736798400@mydiabeteshq.org
SUMMARY:Diabetes Peer Support Virtual Meetings
DESCRIPTION:Join us virtually every week on Mondays from 7 pm to 8 pm through a Teams meeting \nClick the link below to Join:\n\nhttps://www.google.com/url?q=https://teams.microsoft.com/l/meetup-join/19%253ameeting_N2U5YzYzMmYtZjU1Mi00ZTk2LThjOWQtMzZmZWNhMGI4N2U5%2540thread.v2/0?context%3D%257b%2522Tid%2522%253a%25225127c86e-d60f-42c9-9e07-d2361b983218%2522%252c%2522Oid%2522%253a%252208f922a8-edc2-4920-b407-4a57a7f3e692%2522%257d&sa=D&source=calendar&ust=1698863406949624&usg=AOvVaw1g3U0IIyijSpOcYFSR0738
URL:https://mydiabeteshq.org/event/diabetes-peer-support-virtual-meetings-72/
LOCATION:TX
END:VEVENT
BEGIN:VEVENT
DTSTART;TZID=America/Chicago:20250112T190000
DTEND;TZID=America/Chicago:20250112T200000
DTSTAMP:20260423T043155
CREATED:20241223T144344Z
LAST-MODIFIED:20241223T144428Z
UID:7139-1736708400-1736712000@mydiabeteshq.org
SUMMARY:Diabetes Peer Support Virtual Meetings
DESCRIPTION:Join us virtually every week on Sundays from 7 pm to 8 pm through a Zoom meeting\nClick the link below to Join:\n\nhttps://us02web.zoom.us/j/85099711243
URL:https://mydiabeteshq.org/event/diabetes-peer-support-virtual-meetings-63/
LOCATION:TX
END:VEVENT
BEGIN:VEVENT
DTSTART;TZID=America/Chicago:20250112T140000
DTEND;TZID=America/Chicago:20250112T150000
DTSTAMP:20260423T043155
CREATED:20250102T101734Z
LAST-MODIFIED:20250102T101734Z
UID:7150-1736690400-1736694000@mydiabeteshq.org
SUMMARY:Winsor Village Church Event
DESCRIPTION:Join us virtually every week on Sundays from 2 pm to 3 pm through a Teams meeting.\nContact CORE Initiative@peoplenomix.org (800)783-4254 to get the Zoom link. 
URL:https://mydiabeteshq.org/event/winsor-village-church-event-2/
LOCATION:TX
END:VEVENT
BEGIN:VEVENT
DTSTART;TZID=America/Chicago:20250109T190000
DTEND;TZID=America/Chicago:20250109T200000
DTSTAMP:20260423T043155
CREATED:20250102T110936Z
LAST-MODIFIED:20250102T110936Z
UID:7160-1736449200-1736452800@mydiabeteshq.org
SUMMARY:Diabetes Peer Support Virtual Meetings
DESCRIPTION:Join us virtually every week on Sundays from 7 pm to 8 pm through a Teams meeting\nClick the link below to Join:\n\nmeeting<https://teams.microsoft.com/l/meetup-join/19%3ameeting_YzY2ZThkNTItMjZmYi00YTZkLTgwNmItYjU3M2E4ZmYzNjUz%40thread.v2/0?context=%7b%22Tid%22%3a%225127c86e-d60f-42c9-9e07-d2361b983218%22%2c%22Oid%22%3a%2208f922a8-edc2-4920-b407-4a57a7f3e692%22%7d> Meeting ID: 223 756 311 77 Passcode: PrTuEB
URL:https://mydiabeteshq.org/event/diabetes-peer-support-virtual-meetings-67/
LOCATION:TX
END:VEVENT
BEGIN:VEVENT
DTSTART;TZID=America/Chicago:20250107T190000
DTEND;TZID=America/Chicago:20250107T200000
DTSTAMP:20260423T043155
CREATED:20250102T121848Z
LAST-MODIFIED:20250102T121915Z
UID:7170-1736276400-1736280000@mydiabeteshq.org
SUMMARY:Men’s Diabetes Peer Support Group
DESCRIPTION:Join us virtually every week on Tuesday from 7 pm to 8 pm through a Teams meeting\nClick the link below to Join:\n\nhttps://teams.microsoft.com/l/meetup-join/19%3ameeting_MjgzOWViZGQtODY4Yi00NTg0LWEzZTYtZGZhMGZjNTg1NjZk%40thread.v2/0?context=%7b%22Tid%22%3a%225127c86e-d60f-42c9-9e07-d2361b983218%22%2c%22Oid%22%3a%2208f922a8-edc2-4920-b407-4a57a7f3e692%22%7d
URL:https://mydiabeteshq.org/event/mens-group/
LOCATION:TX
END:VEVENT
BEGIN:VEVENT
DTSTART;TZID=America/Chicago:20250106T190000
DTEND;TZID=America/Chicago:20250106T200000
DTSTAMP:20260423T043155
CREATED:20250102T130350Z
LAST-MODIFIED:20250102T130350Z
UID:7179-1736190000-1736193600@mydiabeteshq.org
SUMMARY:Diabetes Peer Support Virtual Meetings
DESCRIPTION:Join us virtually every week on Mondays from 7 pm to 8 pm through a Teams meeting \nClick the link below to Join:\n\nhttps://www.google.com/url?q=https://teams.microsoft.com/l/meetup-join/19%253ameeting_N2U5YzYzMmYtZjU1Mi00ZTk2LThjOWQtMzZmZWNhMGI4N2U5%2540thread.v2/0?context%3D%257b%2522Tid%2522%253a%25225127c86e-d60f-42c9-9e07-d2361b983218%2522%252c%2522Oid%2522%253a%252208f922a8-edc2-4920-b407-4a57a7f3e692%2522%257d&sa=D&source=calendar&ust=1698863406949624&usg=AOvVaw1g3U0IIyijSpOcYFSR0738
URL:https://mydiabeteshq.org/event/diabetes-peer-support-virtual-meetings-71/
LOCATION:TX
END:VEVENT
BEGIN:VEVENT
DTSTART;TZID=America/Chicago:20250105T190000
DTEND;TZID=America/Chicago:20250105T200000
DTSTAMP:20260423T043156
CREATED:20241223T144034Z
LAST-MODIFIED:20241223T144435Z
UID:7137-1736103600-1736107200@mydiabeteshq.org
SUMMARY:Diabetes Peer Support Virtual Meetings
DESCRIPTION:Join us virtually every week on Sundays from 7 pm to 8 pm through a Zoom meeting\nClick the link below to Join:\n\nhttps://us02web.zoom.us/j/85099711243
URL:https://mydiabeteshq.org/event/diabetes-peer-support-virtual-meetings-62/
LOCATION:TX
END:VEVENT
BEGIN:VEVENT
DTSTART;TZID=America/Chicago:20250102T190000
DTEND;TZID=America/Chicago:20250102T200000
DTSTAMP:20260423T043156
CREATED:20250102T110605Z
LAST-MODIFIED:20250102T110605Z
UID:7158-1735844400-1735848000@mydiabeteshq.org
SUMMARY:Diabetes Peer Support Virtual Meetings
DESCRIPTION:Join us virtually every week on Sundays from 7 pm to 8 pm through a Teams meeting\nClick the link below to Join:\n\nmeeting<https://teams.microsoft.com/l/meetup-join/19%3ameeting_YzY2ZThkNTItMjZmYi00YTZkLTgwNmItYjU3M2E4ZmYzNjUz%40thread.v2/0?context=%7b%22Tid%22%3a%225127c86e-d60f-42c9-9e07-d2361b983218%22%2c%22Oid%22%3a%2208f922a8-edc2-4920-b407-4a57a7f3e692%22%7d> Meeting ID: 223 756 311 77 Passcode: PrTuEB
URL:https://mydiabeteshq.org/event/diabetes-peer-support-virtual-meetings-66/
LOCATION:TX
END:VEVENT
BEGIN:VEVENT
DTSTART;TZID=America/Chicago:20250102T140000
DTEND;TZID=America/Chicago:20250102T150000
DTSTAMP:20260423T043156
CREATED:20250102T102826Z
LAST-MODIFIED:20250102T102826Z
UID:7155-1735826400-1735830000@mydiabeteshq.org
SUMMARY:Winsor Village Church Event
DESCRIPTION:Join us virtually every week on Sundays from 2 pm to 3 pm through a Teams meeting.\nContact CORE Initiative@peoplenomix.org (800)783-4254 to get the Zoom link. 
URL:https://mydiabeteshq.org/event/winsor-village-church-event-4/
LOCATION:TX
END:VEVENT
BEGIN:VEVENT
DTSTART;TZID=America/Chicago:20241231T190000
DTEND;TZID=America/Chicago:20241231T200000
DTSTAMP:20260423T043156
CREATED:20240912T152306Z
LAST-MODIFIED:20240912T152306Z
UID:6605-1735671600-1735675200@mydiabeteshq.org
SUMMARY:Men's Diabetes Peer Support Group
DESCRIPTION:Join us virtually every week on Tuesdays from 7 pm to 8 pm through Microsoft Team meetings.\nClick Here to Join Us
URL:https://mydiabeteshq.org/event/mens-diabetes-peer-support-group-17/
LOCATION:TX
END:VEVENT
BEGIN:VEVENT
DTSTART;TZID=America/Chicago:20241231T110000
DTEND;TZID=America/Chicago:20241231T120000
DTSTAMP:20260423T043156
CREATED:20240913T122553Z
LAST-MODIFIED:20240920T055312Z
UID:6706-1735642800-1735646400@mydiabeteshq.org
SUMMARY:In Person Diabetes Peer Support group
DESCRIPTION:DAWN Center – Alief on every Tuesday from 11am to 12pm starting on September 24th 2024. (In person)\nlocated at: Alief Neighborhood Center\n11903 Bellaire Blvd.\nHouston\, TX 77072 Suite # 1201\nRegistration is not required.\nIf you would like to join Peer Support and have questions\, please contact Serena Valentine COREInitiative@peoplenomix.org
URL:https://mydiabeteshq.org/event/in-person-diabetes-peer-support-group-16/
LOCATION:DAWN Center-Alief. Alief Community Center\, 11903 Belaire Blvd\, Houston\, TX\, 77072\, United States
END:VEVENT
BEGIN:VEVENT
DTSTART;TZID=America/Chicago:20241230T190000
DTEND;TZID=America/Chicago:20241230T200000
DTSTAMP:20260423T043156
CREATED:20240912T131649Z
LAST-MODIFIED:20240912T131649Z
UID:6569-1735585200-1735588800@mydiabeteshq.org
SUMMARY:Diabetes Peer Support Virtual Meetings
DESCRIPTION:Join us virtually every week on Mondays from 7 pm to 8 pm through Microsoft Team meetings.\nClick Here To Join Us
URL:https://mydiabeteshq.org/event/diabetes-peer-support-virtual-meetings-29/
LOCATION:TX
END:VEVENT
BEGIN:VEVENT
DTSTART;TZID=America/Chicago:20241229T190000
DTEND;TZID=America/Chicago:20241229T200000
DTSTAMP:20260423T043156
CREATED:20240912T193650Z
LAST-MODIFIED:20241223T143239Z
UID:6670-1735498800-1735502400@mydiabeteshq.org
SUMMARY:Diabetes Peer Support Virtual Meetings
DESCRIPTION:Join us virtually every week on Sundays from 7 pm to 8 pm through a Zoom meeting\nClick the link below to Join:\n\nhttps://us02web.zoom.us/j/85099711243
URL:https://mydiabeteshq.org/event/diabetes-peer-support-virtual-meetings-61/
LOCATION:TX
END:VEVENT
BEGIN:VEVENT
DTSTART;TZID=America/Chicago:20241226T190000
DTEND;TZID=America/Chicago:20241226T200000
DTSTAMP:20260423T043156
CREATED:20240912T155927Z
LAST-MODIFIED:20240912T155927Z
UID:6637-1735239600-1735243200@mydiabeteshq.org
SUMMARY:Diabetes Peer Support Virtual Meetings
DESCRIPTION:Join us virtually every week on Thursdays from 7 pm to 8 pm through Microsoft Team meetings.\nClick Here To Join Us
URL:https://mydiabeteshq.org/event/diabetes-peer-support-virtual-meetings-45/
LOCATION:TX
END:VEVENT
BEGIN:VEVENT
DTSTART;TZID=America/Chicago:20241224T190000
DTEND;TZID=America/Chicago:20241224T200000
DTSTAMP:20260423T043156
CREATED:20240912T152157Z
LAST-MODIFIED:20240912T152157Z
UID:6603-1735066800-1735070400@mydiabeteshq.org
SUMMARY:Men's Diabetes Peer Support Group
DESCRIPTION:Join us virtually every week on Tuesdays from 7 pm to 8 pm through Microsoft Team meetings.\nClick Here to Join Us
URL:https://mydiabeteshq.org/event/mens-diabetes-peer-support-group-16/
LOCATION:TX
END:VEVENT
BEGIN:VEVENT
DTSTART;TZID=America/Chicago:20241224T110000
DTEND;TZID=America/Chicago:20241224T120000
DTSTAMP:20260423T043156
CREATED:20240913T122457Z
LAST-MODIFIED:20240913T122457Z
UID:6704-1735038000-1735041600@mydiabeteshq.org
SUMMARY:In Person Diabetes Peer Support group
DESCRIPTION:DAWN Center – Alief on Tuesday\, September 20\, 2024 at 11 AM-12 Noon (In person)\nlocated at: Alief Neighborhood Center\n11903 Bellaire Blvd.\nHouston\, TX 77072\nRegistration is not required.\nIf you would like to join Peer Support and have questions\, please contact Serena Valentine COREInitiative@peoplenomix.org
URL:https://mydiabeteshq.org/event/in-person-diabetes-peer-support-group-15/
LOCATION:DAWN Center-Alief. Alief Community Center\, 11903 Belaire Blvd\, Houston\, TX\, 77072\, United States
END:VEVENT
BEGIN:VEVENT
DTSTART;TZID=America/Chicago:20241223T190000
DTEND;TZID=America/Chicago:20241223T200000
DTSTAMP:20260423T043156
CREATED:20240912T130614Z
LAST-MODIFIED:20240912T131401Z
UID:6567-1734980400-1734984000@mydiabeteshq.org
SUMMARY:Diabetes Peer Support Virtual Meetings
DESCRIPTION:Join us virtually every week on Mondays from 7 pm to 8 pm through Microsoft Team meetings.\nClick Here To Join Us
URL:https://mydiabeteshq.org/event/diabetes-peer-support-virtual-meetings-28/
LOCATION:TX
END:VEVENT
BEGIN:VEVENT
DTSTART;TZID=America/Chicago:20241222T190000
DTEND;TZID=America/Chicago:20241222T200000
DTSTAMP:20260423T043156
CREATED:20240912T193447Z
LAST-MODIFIED:20241002T175821Z
UID:6668-1734894000-1734897600@mydiabeteshq.org
SUMMARY:Diabetes Peer Support Virtual Meetings
DESCRIPTION:Join us virtually every week on Sundays from 7 pm to 8 pm through Teams\nClick Here to Join us:\n\nhttps://teams.microsoft.com/l/meetup-join/19%3ameeting_NjM0ZWI1YjgtN2IyNS00OTUxLWJmNTQtMzM4YmY3NzcxNDAw%40thread.v2/0?context=%7b%22Tid%22%3a%225127c86e-d60f-42c9-9e07-d2361b983218%22%2c%22Oid%22%3a%2208f922a8-edc2-4920-b407-4a57a7f3e692%22%7d
URL:https://mydiabeteshq.org/event/diabetes-peer-support-virtual-meetings-60/
LOCATION:TX
END:VEVENT
BEGIN:VEVENT
DTSTART;TZID=America/Chicago:20241219T190000
DTEND;TZID=America/Chicago:20241219T200000
DTSTAMP:20260423T043156
CREATED:20240912T155833Z
LAST-MODIFIED:20240912T155833Z
UID:6635-1734634800-1734638400@mydiabeteshq.org
SUMMARY:Diabetes Peer Support Virtual Meetings
DESCRIPTION:Join us virtually every week on Thursdays from 7 pm to 8 pm through Microsoft Team meetings.\nClick Here To Join Us
URL:https://mydiabeteshq.org/event/diabetes-peer-support-virtual-meetings-44/
LOCATION:TX
END:VEVENT
BEGIN:VEVENT
DTSTART;TZID=America/Chicago:20241217T190000
DTEND;TZID=America/Chicago:20241217T200000
DTSTAMP:20260423T043156
CREATED:20240912T152053Z
LAST-MODIFIED:20240912T152053Z
UID:6601-1734462000-1734465600@mydiabeteshq.org
SUMMARY:Men's Diabetes Peer Support Group
DESCRIPTION:Join us virtually every week on Tuesdays from 7 pm to 8 pm through Microsoft Team meetings.\nClick Here to Join Us
URL:https://mydiabeteshq.org/event/mens-diabetes-peer-support-group-15/
LOCATION:TX
END:VEVENT
BEGIN:VEVENT
DTSTART;TZID=America/Chicago:20241217T110000
DTEND;TZID=America/Chicago:20241217T120000
DTSTAMP:20260423T043156
CREATED:20240913T121807Z
LAST-MODIFIED:20240913T122256Z
UID:6702-1734433200-1734436800@mydiabeteshq.org
SUMMARY:In Person Diabetes Peer Support group
DESCRIPTION:DAWN Center – Alief on Tuesday\, September 20\, 2024 at 11 AM-12 Noon (In person)\nlocated at: Alief Neighborhood Center\n11903 Bellaire Blvd.\nHouston\, TX 77072\nRegistration is not required.\nIf you would like to join Peer Support and have questions\, please contact Serena Valentine COREInitiative@peoplenomix.org
URL:https://mydiabeteshq.org/event/in-person-diabetes-peer-support-group-14/
LOCATION:DAWN Center-Alief. Alief Community Center\, 11903 Belaire Blvd\, Houston\, TX\, 77072\, United States
END:VEVENT
END:VCALENDAR