BEGIN:VCALENDAR
VERSION:2.0
PRODID:-//MyDiabetesHQ - ECPv6.2.4//NONSGML v1.0//EN
CALSCALE:GREGORIAN
METHOD:PUBLISH
X-WR-CALNAME:MyDiabetesHQ
X-ORIGINAL-URL:https://mydiabeteshq.org/
X-WR-CALDESC:Events for MyDiabetesHQ
REFRESH-INTERVAL;VALUE=DURATION:PT1H
X-Robots-Tag:noindex
X-PUBLISHED-TTL:PT1H
BEGIN:VTIMEZONE
TZID:America/Chicago
BEGIN:DAYLIGHT
TZOFFSETFROM:-0600
TZOFFSETTO:-0500
TZNAME:CDT
DTSTART:20240310T080000
END:DAYLIGHT
BEGIN:STANDARD
TZOFFSETFROM:-0500
TZOFFSETTO:-0600
TZNAME:CST
DTSTART:20241103T070000
END:STANDARD
END:VTIMEZONE
BEGIN:VEVENT
DTSTART;TZID=America/Chicago:20241031T190000
DTEND;TZID=America/Chicago:20241031T200000
DTSTAMP:20260425T144823
CREATED:20240912T154823Z
LAST-MODIFIED:20240912T154823Z
UID:6621-1730401200-1730404800@mydiabeteshq.org
SUMMARY:Diabetes Peer Support Virtual Meetings
DESCRIPTION:Join us virtually every week on Thursdays from 7 pm to 8 pm through Microsoft Team meetings.\nClick Here To Join Us
URL:https://mydiabeteshq.org/event/diabetes-peer-support-virtual-meetings-37/
LOCATION:TX
END:VEVENT
BEGIN:VEVENT
DTSTART;TZID=America/Chicago:20241029T190000
DTEND;TZID=America/Chicago:20241029T200000
DTSTAMP:20260425T144823
CREATED:20240912T134336Z
LAST-MODIFIED:20240912T135554Z
UID:6583-1730228400-1730232000@mydiabeteshq.org
SUMMARY:Men's Diabetes Peer Support Group
DESCRIPTION:Join us virtually every week on Tuesdays from 7 pm to 8 pm through Microsoft Team meetings.\nClick Here to Join Us
URL:https://mydiabeteshq.org/event/mens-diabetes-peer-support-group-7/
LOCATION:TX
END:VEVENT
BEGIN:VEVENT
DTSTART;TZID=America/Chicago:20241028T190000
DTEND;TZID=America/Chicago:20241028T200000
DTSTAMP:20260425T144823
CREATED:20240912T120237Z
LAST-MODIFIED:20240912T120237Z
UID:6550-1730142000-1730145600@mydiabeteshq.org
SUMMARY:Diabetes Peer Support Virtual Meetings
DESCRIPTION:Join us virtually every week on Mondays from 7 pm to 8 pm through Microsoft Team meetings.\nClick Here To Join Us
URL:https://mydiabeteshq.org/event/diabetes-peer-support-virtual-meetings-20/
LOCATION:TX
END:VEVENT
BEGIN:VEVENT
DTSTART;TZID=America/Chicago:20241027T190000
DTEND;TZID=America/Chicago:20241027T200000
DTSTAMP:20260425T144823
CREATED:20240912T170300Z
LAST-MODIFIED:20241002T174806Z
UID:6652-1730055600-1730059200@mydiabeteshq.org
SUMMARY:Diabetes Peer Support Virtual Meetings
DESCRIPTION:Join us virtually every week on Sundays from 7 pm to 8 pm through Teams\nClick Here to Join us:\n\nhttps://teams.microsoft.com/l/meetup-join/19%3ameeting_NjM0ZWI1YjgtN2IyNS00OTUxLWJmNTQtMzM4YmY3NzcxNDAw%40thread.v2/0?context=%7b%22Tid%22%3a%225127c86e-d60f-42c9-9e07-d2361b983218%22%2c%22Oid%22%3a%2208f922a8-edc2-4920-b407-4a57a7f3e692%22%7d
URL:https://mydiabeteshq.org/event/diabetes-peer-support-virtual-meetings-52/
LOCATION:TX
END:VEVENT
BEGIN:VEVENT
DTSTART;TZID=America/Chicago:20241025T100000
DTEND;TZID=America/Chicago:20241025T110000
DTSTAMP:20260425T144823
CREATED:20240913T114902Z
LAST-MODIFIED:20241002T181504Z
UID:6686-1729850400-1729854000@mydiabeteshq.org
SUMMARY:In Person Diabetes Peer Support group
DESCRIPTION:Join the Peer Support Group every Friday in October from 10 AM to 11 AM. \nDAWN Center – Alief on Friday \n\nlocated at: Alief Neighborhood Center\n11903 Bellaire Blvd.\nHouston\, TX 77072\nRegistration is not required.\nIf you would like to join Peer Support and have questions\, please contact Serena Valentine COREInitiative@peoplenomix.org
URL:https://mydiabeteshq.org/event/in-person-diabetes-peer-support-group-6/
LOCATION:TX
END:VEVENT
BEGIN:VEVENT
DTSTART;TZID=America/Chicago:20241024T190000
DTEND;TZID=America/Chicago:20241024T200000
DTSTAMP:20260425T144823
CREATED:20240912T154702Z
LAST-MODIFIED:20240912T154702Z
UID:6619-1729796400-1729800000@mydiabeteshq.org
SUMMARY:Diabetes Peer Support Virtual Meetings
DESCRIPTION:Join us virtually every week on Thursdays from 7 pm to 8 pm through Microsoft Team meetings.\nClick Here To Join Us
URL:https://mydiabeteshq.org/event/diabetes-peer-support-virtual-meetings-36/
LOCATION:TX
END:VEVENT
BEGIN:VEVENT
DTSTART;TZID=America/Chicago:20241022T190000
DTEND;TZID=America/Chicago:20241022T200000
DTSTAMP:20260425T144823
CREATED:20240912T134247Z
LAST-MODIFIED:20240912T134247Z
UID:6581-1729623600-1729627200@mydiabeteshq.org
SUMMARY:Men's Diabetes Peer Support Group
DESCRIPTION:Join us virtually every week on Tuesdays from 7 pm to 8 pm through Microsoft Team meetings.\nClick Here to Join Us
URL:https://mydiabeteshq.org/event/mens-diabetes-peer-support-group-6/
LOCATION:TX
END:VEVENT
BEGIN:VEVENT
DTSTART;TZID=America/Chicago:20241021T190000
DTEND;TZID=America/Chicago:20241021T200000
DTSTAMP:20260425T144823
CREATED:20240912T115902Z
LAST-MODIFIED:20240912T115902Z
UID:6548-1729537200-1729540800@mydiabeteshq.org
SUMMARY:Diabetes Peer Support Virtual Meetings
DESCRIPTION:Join us virtually every week on Mondays from 7 pm to 8 pm through Microsoft Team meetings.\nClick Here To Join Us
URL:https://mydiabeteshq.org/event/diabetes-peer-support-virtual-meetings-19/
LOCATION:TX
END:VEVENT
BEGIN:VEVENT
DTSTART;TZID=America/Chicago:20241020T190000
DTEND;TZID=America/Chicago:20241020T200000
DTSTAMP:20260425T144823
CREATED:20240912T170038Z
LAST-MODIFIED:20241002T174544Z
UID:6650-1729450800-1729454400@mydiabeteshq.org
SUMMARY:Diabetes Peer Support Virtual Meetings
DESCRIPTION:Join us virtually every week on Sundays from 7 pm to 8 pm through Teams\nClick Here to Join us:\n\nhttps://teams.microsoft.com/l/meetup-join/19%3ameeting_NjM0ZWI1YjgtN2IyNS00OTUxLWJmNTQtMzM4YmY3NzcxNDAw%40thread.v2/0?context=%7b%22Tid%22%3a%225127c86e-d60f-42c9-9e07-d2361b983218%22%2c%22Oid%22%3a%2208f922a8-edc2-4920-b407-4a57a7f3e692%22%7d
URL:https://mydiabeteshq.org/event/diabetes-peer-support-virtual-meetings-51/
LOCATION:TX
END:VEVENT
BEGIN:VEVENT
DTSTART;TZID=America/Chicago:20241018T100000
DTEND;TZID=America/Chicago:20241018T110000
DTSTAMP:20260425T144823
CREATED:20240913T114722Z
LAST-MODIFIED:20241002T181326Z
UID:6684-1729245600-1729249200@mydiabeteshq.org
SUMMARY:In Person Diabetes Peer Support group
DESCRIPTION:Join the Peer Support Group every Friday in October from 10 AM to 11 AM. \nDAWN Center – Alief on Friday \n\nlocated at: Alief Neighborhood Center\n11903 Bellaire Blvd.\nHouston\, TX 77072\nRegistration is not required.\nIf you would like to join Peer Support and have questions\, please contact Serena Valentine COREInitiative@peoplenomix.org
URL:https://mydiabeteshq.org/event/in-person-diabetes-peer-support-group-5/
LOCATION:TX
END:VEVENT
BEGIN:VEVENT
DTSTART;TZID=America/Chicago:20241017T190000
DTEND;TZID=America/Chicago:20241017T200000
DTSTAMP:20260425T144823
CREATED:20240912T154029Z
LAST-MODIFIED:20240912T154029Z
UID:6617-1729191600-1729195200@mydiabeteshq.org
SUMMARY:Diabetes Peer Support Virtual Meetings
DESCRIPTION:Join us virtually every week on Thursdays from 7 pm to 8 pm through Microsoft Team meetings.\nClick Here To Join Us
URL:https://mydiabeteshq.org/event/diabetes-peer-support-virtual-meetings-35/
LOCATION:TX
END:VEVENT
BEGIN:VEVENT
DTSTART;TZID=America/Chicago:20241015T190000
DTEND;TZID=America/Chicago:20241015T200000
DTSTAMP:20260425T144823
CREATED:20240912T133651Z
LAST-MODIFIED:20240912T133651Z
UID:6579-1729018800-1729022400@mydiabeteshq.org
SUMMARY:Men's Diabetes Peer Support Group
DESCRIPTION:Join us virtually every week on Tuesdays from 7 pm to 8 pm through Microsoft Team meetings.\nClick Here to Join Us
URL:https://mydiabeteshq.org/event/mens-diabetes-peer-support-group-5/
LOCATION:TX
END:VEVENT
BEGIN:VEVENT
DTSTART;TZID=America/Chicago:20241014T190000
DTEND;TZID=America/Chicago:20241014T190000
DTSTAMP:20260425T144823
CREATED:20240912T115602Z
LAST-MODIFIED:20240912T115602Z
UID:6546-1728932400-1728932400@mydiabeteshq.org
SUMMARY:Diabetes Peer Support Virtual Meetings
DESCRIPTION:Join us virtually every week on Mondays from 7 pm to 8 pm through Microsoft Team meetings.\nClick Here To Join Us
URL:https://mydiabeteshq.org/event/diabetes-peer-support-virtual-meetings-18/
LOCATION:TX
END:VEVENT
BEGIN:VEVENT
DTSTART;TZID=America/Chicago:20241013T190000
DTEND;TZID=America/Chicago:20241013T200000
DTSTAMP:20260425T144823
CREATED:20240912T165902Z
LAST-MODIFIED:20241002T174638Z
UID:6648-1728846000-1728849600@mydiabeteshq.org
SUMMARY:Diabetes Peer Support Virtual Meetings
DESCRIPTION:Join us virtually every week on Sundays from 7 pm to 8 pm through Teams\nClick Here to Join us:\n\nhttps://teams.microsoft.com/l/meetup-join/19%3ameeting_NjM0ZWI1YjgtN2IyNS00OTUxLWJmNTQtMzM4YmY3NzcxNDAw%40thread.v2/0?context=%7b%22Tid%22%3a%225127c86e-d60f-42c9-9e07-d2361b983218%22%2c%22Oid%22%3a%2208f922a8-edc2-4920-b407-4a57a7f3e692%22%7d
URL:https://mydiabeteshq.org/event/diabetes-peer-support-virtual-meetings-50/
LOCATION:TX
END:VEVENT
BEGIN:VEVENT
DTSTART;TZID=America/Chicago:20241011T100000
DTEND;TZID=America/Chicago:20241011T110000
DTSTAMP:20260425T144823
CREATED:20240913T114442Z
LAST-MODIFIED:20241002T181158Z
UID:6682-1728640800-1728644400@mydiabeteshq.org
SUMMARY:In Person Diabetes Peer Support group
DESCRIPTION:Join the Peer Support Group every Friday in October from 10 AM to 11 AM. \nDAWN Center – Alief on Friday \n\nlocated at: Alief Neighborhood Center\n11903 Bellaire Blvd.\nHouston\, TX 77072\nRegistration is not required.\nIf you would like to join Peer Support and have questions\, please contact Serena Valentine COREInitiative@peoplenomix.org
URL:https://mydiabeteshq.org/event/in-person-diabetes-peer-support-group-4/
LOCATION:TX
END:VEVENT
BEGIN:VEVENT
DTSTART;TZID=America/Chicago:20241010T190000
DTEND;TZID=America/Chicago:20241010T200000
DTSTAMP:20260425T144823
CREATED:20240912T153937Z
LAST-MODIFIED:20240912T153937Z
UID:6615-1728586800-1728590400@mydiabeteshq.org
SUMMARY:Diabetes Peer Support Virtual Meetings
DESCRIPTION:Join us virtually every week on Thursdays from 7 pm to 8 pm through Microsoft Team meetings.\nClick Here To Join Us
URL:https://mydiabeteshq.org/event/diabetes-peer-support-virtual-meetings-34/
LOCATION:TX
END:VEVENT
BEGIN:VEVENT
DTSTART;TZID=America/Chicago:20241008T190000
DTEND;TZID=America/Chicago:20241008T200000
DTSTAMP:20260425T144823
CREATED:20240912T133348Z
LAST-MODIFIED:20240912T133348Z
UID:6577-1728414000-1728417600@mydiabeteshq.org
SUMMARY:Men's Diabetes Peer Support Group
DESCRIPTION:Join us virtually every week on Tuesdays from 7 pm to 8 pm through Microsoft Team meetings.\nClick Here to Join Us
URL:https://mydiabeteshq.org/event/mens-diabetes-peer-support-group-4/
LOCATION:TX
END:VEVENT
BEGIN:VEVENT
DTSTART;TZID=America/Chicago:20241007T190000
DTEND;TZID=America/Chicago:20241007T200000
DTSTAMP:20260425T144823
CREATED:20240912T115409Z
LAST-MODIFIED:20240912T115423Z
UID:6544-1728327600-1728331200@mydiabeteshq.org
SUMMARY:Diabetes Peer Support Virtual Meetings
DESCRIPTION:Join us virtually every week on Mondays from 7 pm to 8 pm through Microsoft Team meetings.\nClick Here To Join Us
URL:https://mydiabeteshq.org/event/diabetes-peer-support-virtual-meetings-17/
LOCATION:TX
END:VEVENT
BEGIN:VEVENT
DTSTART;TZID=America/Chicago:20241006T190000
DTEND;TZID=America/Chicago:20241006T200000
DTSTAMP:20260425T144823
CREATED:20240912T165656Z
LAST-MODIFIED:20241002T174455Z
UID:6646-1728241200-1728244800@mydiabeteshq.org
SUMMARY:Diabetes Peer Support Virtual Meetings
DESCRIPTION:Join us virtually every week on Sundays from 7 pm to 8 pm through Teams\n\nClick Here to Join us:\n\nhttps://teams.microsoft.com/l/meetup-join/19%3ameeting_NjM0ZWI1YjgtN2IyNS00OTUxLWJmNTQtMzM4YmY3NzcxNDAw%40thread.v2/0?context=%7b%22Tid%22%3a%225127c86e-d60f-42c9-9e07-d2361b983218%22%2c%22Oid%22%3a%2208f922a8-edc2-4920-b407-4a57a7f3e692%22%7d
URL:https://mydiabeteshq.org/event/diabetes-peer-support-virtual-meetings-49/
LOCATION:TX
END:VEVENT
BEGIN:VEVENT
DTSTART;TZID=America/Chicago:20241004T100000
DTEND;TZID=America/Chicago:20241004T110000
DTSTAMP:20260425T144823
CREATED:20240913T113628Z
LAST-MODIFIED:20241002T181031Z
UID:6680-1728036000-1728039600@mydiabeteshq.org
SUMMARY:In Person Diabetes Peer Support group
DESCRIPTION:Join the Peer Support Group every Friday in October from 10 AM to 11 AM. \nDAWN Center – Alief on Friday \nlocated at: Alief Neighborhood Center\n11903 Bellaire Blvd.\nHouston\, TX 77072\nRegistration is not required.\nIf you would like to join Peer Support and have questions\, please contact Serena Valentine COREInitiative@peoplenomix.org
URL:https://mydiabeteshq.org/event/in-person-diabetes-peer-support-group-3/
LOCATION:DAWN Center-Alief. Alief Community Center\, 11903 Belaire Blvd\, Houston\, TX\, 77072\, United States
END:VEVENT
BEGIN:VEVENT
DTSTART;TZID=America/Chicago:20241003T190000
DTEND;TZID=America/Chicago:20241003T200000
DTSTAMP:20260425T144823
CREATED:20240912T153750Z
LAST-MODIFIED:20240912T153750Z
UID:6613-1727982000-1727985600@mydiabeteshq.org
SUMMARY:Diabetes Peer Support Virtual Meetings
DESCRIPTION:Join us virtually every week on Thursdays from 7 pm to 8 pm through Microsoft Team meetings.\nClick Here To Join Us
URL:https://mydiabeteshq.org/event/diabetes-peer-support-virtual-meetings-33/
LOCATION:TX
END:VEVENT
BEGIN:VEVENT
DTSTART;TZID=America/Chicago:20241001T190000
DTEND;TZID=America/Chicago:20241001T200000
DTSTAMP:20260425T144823
CREATED:20240912T132816Z
LAST-MODIFIED:20240912T132816Z
UID:6575-1727809200-1727812800@mydiabeteshq.org
SUMMARY:Men's Diabetes Peer Support Group
DESCRIPTION:Join us virtually every week on Tuesdays from 7 pm to 8 pm through Microsoft Team meetings.\nClick Here to Join Us
URL:https://mydiabeteshq.org/event/mens-diabetes-peer-support-group-3/
LOCATION:TX
END:VEVENT
BEGIN:VEVENT
DTSTART;TZID=America/Chicago:20240930T190000
DTEND;TZID=America/Chicago:20240930T200000
DTSTAMP:20260425T144823
CREATED:20240912T115214Z
LAST-MODIFIED:20240912T115214Z
UID:6542-1727722800-1727726400@mydiabeteshq.org
SUMMARY:Diabetes Peer Support Virtual Meetings
DESCRIPTION:Join us virtually every week on Mondays from 7 pm to 8 pm through Microsoft Team meetings.\nClick Here To Join Us
URL:https://mydiabeteshq.org/event/diabetes-peer-support-virtual-meetings-16/
LOCATION:TX
END:VEVENT
BEGIN:VEVENT
DTSTART;TZID=America/Chicago:20240929T140000
DTEND;TZID=America/Chicago:20240929T150000
DTSTAMP:20260425T144823
CREATED:20240912T165500Z
LAST-MODIFIED:20240912T165500Z
UID:6644-1727618400-1727622000@mydiabeteshq.org
SUMMARY:Diabetes Peer Support Virtual Meetings
DESCRIPTION:Join us virtually every week on Sundays from 2 pm to 3 pm through Zoom\nClick Here to Join us: https://us02web.zoom.us/j/85099711243
URL:https://mydiabeteshq.org/event/diabetes-peer-support-virtual-meetings-48/
LOCATION:TX
END:VEVENT
BEGIN:VEVENT
DTSTART;TZID=America/Chicago:20240926T190000
DTEND;TZID=America/Chicago:20240926T200000
DTSTAMP:20260425T144823
CREATED:20240912T153614Z
LAST-MODIFIED:20240912T153614Z
UID:6611-1727377200-1727380800@mydiabeteshq.org
SUMMARY:Diabetes Peer Support Virtual Meetings
DESCRIPTION:Join us virtually every week on Thursdays from 7 pm to 8 pm through Microsoft Team meetings.\nClick Here To Join Us
URL:https://mydiabeteshq.org/event/diabetes-peer-support-virtual-meetings-32/
LOCATION:TX
END:VEVENT
BEGIN:VEVENT
DTSTART;TZID=America/Chicago:20240924T190000
DTEND;TZID=America/Chicago:20240924T200000
DTSTAMP:20260425T144823
CREATED:20240912T132624Z
LAST-MODIFIED:20240912T132624Z
UID:6573-1727204400-1727208000@mydiabeteshq.org
SUMMARY:Men's Diabetes Peer Support Group
DESCRIPTION:Join us virtually every week on Tuesdays from 7 pm to 8 pm through Microsoft Team meetings.\nClick Here to Join Us
URL:https://mydiabeteshq.org/event/mens-diabetes-peer-support-group-2/
LOCATION:TX
END:VEVENT
BEGIN:VEVENT
DTSTART;TZID=America/Chicago:20240924T110000
DTEND;TZID=America/Chicago:20240924T120000
DTSTAMP:20260425T144823
CREATED:20240913T112837Z
LAST-MODIFIED:20240920T055805Z
UID:6677-1727175600-1727179200@mydiabeteshq.org
SUMMARY:In Person Diabetes Peer Support group
DESCRIPTION:DAWN Center – Alief on every Tuesday from 11am to 12pm starting on September 24th 2024. (In person)\nlocated at: Alief Neighborhood Center\n11903 Bellaire Blvd.\nHouston\, TX 77072 Suite # 1201\nRegistration is not required.\nIf you would like to join Peer Support and have questions\, please contact Serena Valentine COREInitiative@peoplenomix.org
URL:https://mydiabeteshq.org/event/in-person-diabetes-peer-support-group-2/
LOCATION:DAWN Center-Alief. Alief Community Center\, 11903 Belaire Blvd\, Houston\, TX\, 77072\, United States
END:VEVENT
BEGIN:VEVENT
DTSTART;TZID=America/Chicago:20240923T190000
DTEND;TZID=America/Chicago:20240923T200000
DTSTAMP:20260425T144823
CREATED:20240912T114957Z
LAST-MODIFIED:20240912T114957Z
UID:6540-1727118000-1727121600@mydiabeteshq.org
SUMMARY:Diabetes Peer Support Virtual Meetings
DESCRIPTION:Join us virtually every week on Mondays from 7 pm to 8 pm through Microsoft Team meetings.\nClick Here To Join Us
URL:https://mydiabeteshq.org/event/diabetes-peer-support-virtual-meetings-15/
LOCATION:TX
END:VEVENT
BEGIN:VEVENT
DTSTART;TZID=America/Chicago:20240922T140000
DTEND;TZID=America/Chicago:20240922T150000
DTSTAMP:20260425T144823
CREATED:20240912T165243Z
LAST-MODIFIED:20240912T165243Z
UID:6642-1727013600-1727017200@mydiabeteshq.org
SUMMARY:Diabetes Peer Support Virtual Meetings
DESCRIPTION:Join us virtually every week on Sundays from 2 pm to 3 pm through Zoom\nClick Here to Join us: https://us02web.zoom.us/j/85099711243
URL:https://mydiabeteshq.org/event/diabetes-peer-support-virtual-meetings-47/
LOCATION:TX
END:VEVENT
BEGIN:VEVENT
DTSTART;TZID=America/Chicago:20240919T190000
DTEND;TZID=America/Chicago:20240919T200000
DTSTAMP:20260425T144823
CREATED:20240912T152738Z
LAST-MODIFIED:20240912T152738Z
UID:6609-1726772400-1726776000@mydiabeteshq.org
SUMMARY:Diabetes Peer Support Virtual Meetings
DESCRIPTION:Join us virtually every week on Thursdays from 7 pm to 8 pm through Microsoft Team meetings.\nClick Here To Join Us
URL:https://mydiabeteshq.org/event/diabetes-peer-support-virtual-meetings-31/
LOCATION:TX
END:VEVENT
END:VCALENDAR